BEGIN:VCALENDAR
VERSION:2.0
PRODID:-//My School - ECPv6.15.20//NONSGML v1.0//EN
CALSCALE:GREGORIAN
METHOD:PUBLISH
X-WR-CALNAME:My School
X-ORIGINAL-URL:https://myschooldover.com
X-WR-CALDESC:Events for My School
REFRESH-INTERVAL;VALUE=DURATION:PT1H
X-Robots-Tag:noindex
X-PUBLISHED-TTL:PT1H
BEGIN:VTIMEZONE
TZID:America/New_York
BEGIN:DAYLIGHT
TZOFFSETFROM:-0500
TZOFFSETTO:-0400
TZNAME:EDT
DTSTART:20170312T070000
END:DAYLIGHT
BEGIN:STANDARD
TZOFFSETFROM:-0400
TZOFFSETTO:-0500
TZNAME:EST
DTSTART:20171105T060000
END:STANDARD
BEGIN:DAYLIGHT
TZOFFSETFROM:-0500
TZOFFSETTO:-0400
TZNAME:EDT
DTSTART:20180311T070000
END:DAYLIGHT
BEGIN:STANDARD
TZOFFSETFROM:-0400
TZOFFSETTO:-0500
TZNAME:EST
DTSTART:20181104T060000
END:STANDARD
BEGIN:DAYLIGHT
TZOFFSETFROM:-0500
TZOFFSETTO:-0400
TZNAME:EDT
DTSTART:20190310T070000
END:DAYLIGHT
BEGIN:STANDARD
TZOFFSETFROM:-0400
TZOFFSETTO:-0500
TZNAME:EST
DTSTART:20191103T060000
END:STANDARD
BEGIN:DAYLIGHT
TZOFFSETFROM:-0500
TZOFFSETTO:-0400
TZNAME:EDT
DTSTART:20200308T070000
END:DAYLIGHT
BEGIN:STANDARD
TZOFFSETFROM:-0400
TZOFFSETTO:-0500
TZNAME:EST
DTSTART:20201101T060000
END:STANDARD
BEGIN:DAYLIGHT
TZOFFSETFROM:-0500
TZOFFSETTO:-0400
TZNAME:EDT
DTSTART:20210314T070000
END:DAYLIGHT
BEGIN:STANDARD
TZOFFSETFROM:-0400
TZOFFSETTO:-0500
TZNAME:EST
DTSTART:20211107T060000
END:STANDARD
BEGIN:DAYLIGHT
TZOFFSETFROM:-0500
TZOFFSETTO:-0400
TZNAME:EDT
DTSTART:20220313T070000
END:DAYLIGHT
BEGIN:STANDARD
TZOFFSETFROM:-0400
TZOFFSETTO:-0500
TZNAME:EST
DTSTART:20221106T060000
END:STANDARD
BEGIN:DAYLIGHT
TZOFFSETFROM:-0500
TZOFFSETTO:-0400
TZNAME:EDT
DTSTART:20230312T070000
END:DAYLIGHT
BEGIN:STANDARD
TZOFFSETFROM:-0400
TZOFFSETTO:-0500
TZNAME:EST
DTSTART:20231105T060000
END:STANDARD
BEGIN:DAYLIGHT
TZOFFSETFROM:-0500
TZOFFSETTO:-0400
TZNAME:EDT
DTSTART:20240310T070000
END:DAYLIGHT
BEGIN:STANDARD
TZOFFSETFROM:-0400
TZOFFSETTO:-0500
TZNAME:EST
DTSTART:20241103T060000
END:STANDARD
BEGIN:DAYLIGHT
TZOFFSETFROM:-0500
TZOFFSETTO:-0400
TZNAME:EDT
DTSTART:20250309T070000
END:DAYLIGHT
BEGIN:STANDARD
TZOFFSETFROM:-0400
TZOFFSETTO:-0500
TZNAME:EST
DTSTART:20251102T060000
END:STANDARD
BEGIN:DAYLIGHT
TZOFFSETFROM:-0500
TZOFFSETTO:-0400
TZNAME:EDT
DTSTART:20260308T070000
END:DAYLIGHT
BEGIN:STANDARD
TZOFFSETFROM:-0400
TZOFFSETTO:-0500
TZNAME:EST
DTSTART:20261101T060000
END:STANDARD
BEGIN:DAYLIGHT
TZOFFSETFROM:-0500
TZOFFSETTO:-0400
TZNAME:EDT
DTSTART:20270314T070000
END:DAYLIGHT
BEGIN:STANDARD
TZOFFSETFROM:-0400
TZOFFSETTO:-0500
TZNAME:EST
DTSTART:20271107T060000
END:STANDARD
END:VTIMEZONE
BEGIN:VEVENT
DTSTART;TZID=America/New_York:20251001T170000
DTEND;TZID=America/New_York:20251001T180000
DTSTAMP:20260423T202958
CREATED:20170808T025525Z
LAST-MODIFIED:20250923T192448Z
UID:244-1759338000-1759341600@myschooldover.com
SUMMARY:Parent Night- Closing at 3:30pm
DESCRIPTION:Parent Night \n*Parents Only \n Wednesday\, October 1st 5-6 pm \nThis is our single Parent’s Only event of the school year. The goal is to familiarize you with what happens in your child’s classroom throughout the day. You will be able to see your child’s work\, photos of them\, learn more about their daily schedule & My School’s philosophy\, and speak with your child’s teachers. \nWe close at 3:30pm to prepare.
URL:https://myschooldover.com/calendar/parent-night/
CATEGORIES:Special Events
END:VEVENT
BEGIN:VEVENT
DTSTART;TZID=America/New_York:20241206T073000
DTEND;TZID=America/New_York:20241206T163000
DTSTAMP:20260423T202958
CREATED:20220809T162714Z
LAST-MODIFIED:20240123T171303Z
UID:1273-1733470200-1733502600@myschooldover.com
SUMMARY:Teacher Workshop- Closed
DESCRIPTION:We will be closed for a teacher workshop day. Teachers will be updating assessments & portfolios and attending trainings.
URL:https://myschooldover.com/calendar/teacher-workshop-3/
CATEGORIES:Staff Only
END:VEVENT
BEGIN:VEVENT
DTSTART;TZID=America/New_York:20241023T090000
DTEND;TZID=America/New_York:20241023T120000
DTSTAMP:20260423T202958
CREATED:20181024T212903Z
LAST-MODIFIED:20241001T151641Z
UID:834-1729674000-1729684800@myschooldover.com
SUMMARY:Field Trip to Emery Farm
DESCRIPTION:Our school-wide Emery Farm field trip is scheduled for Wednesday Oct\, 23rd (weather permitting\, no rain date). This is a driving field trip\, meaning we will meet at the farm and all students must have a chaperone to attend. Children who do not attend school Wednesday are welcomed to join the field trip (with their chaperone) as well!\n\nPermission Slips will be sent via Google Docs
URL:https://myschooldover.com/calendar/field-trip-emery-farm-2/
CATEGORIES:Special Events
END:VEVENT
BEGIN:VEVENT
DTSTART;VALUE=DATE:20260703
DTEND;VALUE=DATE:20260705
DTSTAMP:20260423T202958
CREATED:20190723T183106Z
LAST-MODIFIED:20250923T130252Z
UID:935-1783044000-1783130399@myschooldover.com
SUMMARY:July 4th- Closed
DESCRIPTION:
URL:https://myschooldover.com/calendar/july4/
CATEGORIES:Closed
END:VEVENT
BEGIN:VEVENT
DTSTART;VALUE=DATE:20260615
DTEND;VALUE=DATE:20260621
DTSTAMP:20260423T202958
CREATED:20180710T015032Z
LAST-MODIFIED:20250923T130405Z
UID:807-1781488800-1781920799@myschooldover.com
SUMMARY:Summer Prep- My School Closed
DESCRIPTION:
URL:https://myschooldover.com/calendar/summer-prep-my-school-closed/
CATEGORIES:Closed
END:VEVENT
BEGIN:VEVENT
DTSTART;TZID=America/New_York:20211123T104500
DTEND;TZID=America/New_York:20211123T120000
DTSTAMP:20260423T202958
CREATED:20170824T200217Z
LAST-MODIFIED:20210615T184238Z
UID:308-1637664300-1637668800@myschooldover.com
SUMMARY:Harvest Festival
DESCRIPTION:This a wonderful time of the year for our friends to participate in various cooking experiences.  Recipes will include apple and pumpkin dishes\, and other fall foods we have been exploring in our “harvesting” studies.  We will talk about how people preserve and save foods for the winter months. The culminating event includes sampling the food they have prepared.
URL:https://myschooldover.com/calendar/harvest-festival-half-day/
CATEGORIES:Special Events
END:VEVENT
BEGIN:VEVENT
DTSTART;TZID=America/New_York:20181024T090000
DTEND;TZID=America/New_York:20181024T120000
DTSTAMP:20260423T202958
CREATED:20181025T215101Z
LAST-MODIFIED:20181005T215552Z
UID:836-1540371600-1540382400@myschooldover.com
SUMMARY:Field Trip to Emery Farm
DESCRIPTION:On Wednesday\, October 24th & Thursday\, October 25th will be our field trips to Emery Farm. Classroom specific instructions will be listed on the Permission Slips. Emery Farm is located on U.S. Rt 4\, 1 ½ miles east of Downtown Durham across from “Wagon on the Hill” GPS 135 Piscataqua Rd\, Durham\, NH 03824 (603) 742-8495. \nWe will leave at 9:15am and return no later than 12:00. Your child should wear comfortable shoes and clothing according to the weather. In the event of inclement weather\, the trip may be canceled. \nChoices … \n\nMeet at Farm: Families/Chaperones with younger siblings or those who wish to drive themselves. We will all meet at animal barn no later than 9:30.\n\n        \n\nMeet at My School and Ride the Bus: First Student Bus Company will be providing transportation to Emery Farm this year for children and their chaperones. Bus will pick up at My School at 9:15am\n\nPermission Slips Will be in parent pockets Mid October
URL:https://myschooldover.com/calendar/field-trip-emery-farm-2-2/
CATEGORIES:Special Events
END:VEVENT
END:VCALENDAR