BEGIN:VCALENDAR
VERSION:2.0
PRODID:-//My School - ECPv6.15.20//NONSGML v1.0//EN
CALSCALE:GREGORIAN
METHOD:PUBLISH
X-WR-CALNAME:My School
X-ORIGINAL-URL:https://myschooldover.com
X-WR-CALDESC:Events for My School
REFRESH-INTERVAL;VALUE=DURATION:PT1H
X-Robots-Tag:noindex
X-PUBLISHED-TTL:PT1H
BEGIN:VTIMEZONE
TZID:America/New_York
BEGIN:DAYLIGHT
TZOFFSETFROM:-0500
TZOFFSETTO:-0400
TZNAME:EDT
DTSTART:20240310T070000
END:DAYLIGHT
BEGIN:STANDARD
TZOFFSETFROM:-0400
TZOFFSETTO:-0500
TZNAME:EST
DTSTART:20241103T060000
END:STANDARD
BEGIN:DAYLIGHT
TZOFFSETFROM:-0500
TZOFFSETTO:-0400
TZNAME:EDT
DTSTART:20250309T070000
END:DAYLIGHT
BEGIN:STANDARD
TZOFFSETFROM:-0400
TZOFFSETTO:-0500
TZNAME:EST
DTSTART:20251102T060000
END:STANDARD
BEGIN:DAYLIGHT
TZOFFSETFROM:-0500
TZOFFSETTO:-0400
TZNAME:EDT
DTSTART:20260308T070000
END:DAYLIGHT
BEGIN:STANDARD
TZOFFSETFROM:-0400
TZOFFSETTO:-0500
TZNAME:EST
DTSTART:20261101T060000
END:STANDARD
BEGIN:DAYLIGHT
TZOFFSETFROM:-0500
TZOFFSETTO:-0400
TZNAME:EDT
DTSTART:20270314T070000
END:DAYLIGHT
BEGIN:STANDARD
TZOFFSETFROM:-0400
TZOFFSETTO:-0500
TZNAME:EST
DTSTART:20271107T060000
END:STANDARD
END:VTIMEZONE
BEGIN:VEVENT
DTSTART;VALUE=DATE:20260824
DTEND;VALUE=DATE:20260830
DTSTAMP:20260423T200327
CREATED:20180710T014611Z
LAST-MODIFIED:20250923T143627Z
UID:802-1787536800-1787968799@myschooldover.com
SUMMARY:Fall Prep- My School Closed
DESCRIPTION:
URL:https://myschooldover.com/calendar/my-school-closed/
CATEGORIES:Closed
END:VEVENT
BEGIN:VEVENT
DTSTART;TZID=America/New_York:20260814T080000
DTEND;TZID=America/New_York:20260814T160000
DTSTAMP:20260423T200327
CREATED:20180710T013502Z
LAST-MODIFIED:20250923T130201Z
UID:794-1786694400-1786723200@myschooldover.com
SUMMARY:Summer Program Ends
DESCRIPTION:
URL:https://myschooldover.com/calendar/summer-program-ends/
CATEGORIES:Special Events
END:VEVENT
BEGIN:VEVENT
DTSTART;TZID=America/New_York:20260622T080000
DTEND;TZID=America/New_York:20260622T160000
DTSTAMP:20260423T200327
CREATED:20180710T013331Z
LAST-MODIFIED:20250923T130333Z
UID:792-1782115200-1782144000@myschooldover.com
SUMMARY:Summer Program Begins
DESCRIPTION:
URL:https://myschooldover.com/calendar/summer-program-begins/
CATEGORIES:Special Events
END:VEVENT
BEGIN:VEVENT
DTSTART;TZID=America/New_York:20260528T170000
DTEND;TZID=America/New_York:20260528T183000
DTSTAMP:20260423T200327
CREATED:20170824T212535Z
LAST-MODIFIED:20250923T131039Z
UID:329-1779987600-1779993000@myschooldover.com
SUMMARY:Spring Fling & Portfolio Day- Closing at 3:30pm *Rain Date- Thurs June 4th
DESCRIPTION:This is our end of the year FAMILY PICNIC.  Each family brings a picnic dinner (or grabs a pizza on the way!)\, drinks & a blanket to sit on. There will be games\, singing\, & portfolios will be handed out.  Children sing songs with their class and together as a whole school. \nWe close at 3:30pm to prepare! \n*Rain Date- Thursday\, June 4th
URL:https://myschooldover.com/calendar/spring-fling-rain-date-june-7th/
CATEGORIES:Special Events
END:VEVENT
BEGIN:VEVENT
DTSTART;TZID=America/New_York:20260525T073000
DTEND;TZID=America/New_York:20260525T163000
DTSTAMP:20260423T200327
CREATED:20170807T202726Z
LAST-MODIFIED:20250923T130826Z
UID:235-1779694200-1779726600@myschooldover.com
SUMMARY:Memorial Day- Closed
DESCRIPTION:Thank you to our service members\, past & present!
URL:https://myschooldover.com/calendar/memorial-day/
CATEGORIES:Closed
END:VEVENT
BEGIN:VEVENT
DTSTART;TZID=America/New_York:20260522T073000
DTEND;TZID=America/New_York:20260522T163000
DTSTAMP:20260423T200327
CREATED:20170807T071828Z
LAST-MODIFIED:20250923T131110Z
UID:217-1779435000-1779467400@myschooldover.com
SUMMARY:Teacher Workshop- Closed
DESCRIPTION:We will be closed for a teacher workshop day. Teachers will be finalizing assessments and portfolios.
URL:https://myschooldover.com/calendar/teacher-workshop/
CATEGORIES:Staff Only
END:VEVENT
BEGIN:VEVENT
DTSTART;TZID=America/New_York:20260520T073000
DTEND;TZID=America/New_York:20260520T120000
DTSTAMP:20260423T200327
CREATED:20230912T203802Z
LAST-MODIFIED:20250923T131140Z
UID:1407-1779262200-1779278400@myschooldover.com
SUMMARY:3rd Wednesday\, 1/2 Day- Staff Meeting
DESCRIPTION:
URL:https://myschooldover.com/calendar/3rd-wednesday-1-2-day-staff-meeting-8/
CATEGORIES:Special Events
END:VEVENT
BEGIN:VEVENT
DTSTART;TZID=America/New_York:20260508T110000
DTEND;TZID=America/New_York:20260508T120000
DTSTAMP:20260423T200327
CREATED:20170824T211958Z
LAST-MODIFIED:20250923T131207Z
UID:327-1778238000-1778241600@myschooldover.com
SUMMARY:Spring Clean Up/Work Day
DESCRIPTION:11am-12noon \nHelp keep My School beautiful and get in the spring spirit! Various gardening/planting activities with children & families. Sign-up form will be sent beforehand. \n*There is no rain date for this event
URL:https://myschooldover.com/calendar/spring-clean-upwork-day/
CATEGORIES:Special Events
END:VEVENT
BEGIN:VEVENT
DTSTART;TZID=America/New_York:20260427T073000
DTEND;TZID=America/New_York:20260501T163000
DTSTAMP:20260423T200327
CREATED:20170807T202631Z
LAST-MODIFIED:20250923T131258Z
UID:233-1777275000-1777653000@myschooldover.com
SUMMARY:Spring Recess
DESCRIPTION:Enjoy your vacation week!
URL:https://myschooldover.com/calendar/spring-recess/
CATEGORIES:Closed
END:VEVENT
BEGIN:VEVENT
DTSTART;TZID=America/New_York:20260415T073000
DTEND;TZID=America/New_York:20260415T120000
DTSTAMP:20260423T200327
CREATED:20230912T203733Z
LAST-MODIFIED:20250923T131339Z
UID:1405-1776238200-1776254400@myschooldover.com
SUMMARY:3rd Wednesday\, 1/2 Day- Staff Meeting
DESCRIPTION:
URL:https://myschooldover.com/calendar/3rd-wednesday-1-2-day-staff-meeting-7/
CATEGORIES:Special Events
END:VEVENT
BEGIN:VEVENT
DTSTART;TZID=America/New_York:20260410T170000
DTEND;TZID=America/New_York:20260410T183000
DTSTAMP:20260423T200327
CREATED:20170824T211549Z
LAST-MODIFIED:20250923T131401Z
UID:323-1775840400-1775845800@myschooldover.com
SUMMARY:School Wide Art Show! Closing at 3:30pm
DESCRIPTION:What a wonderful event!  Come see children’s inventive\, creative\, and beautiful art work.  A myriad of materials\, mediums\, and techniques on display. \nWe close at 3:30pm to prepare!
URL:https://myschooldover.com/calendar/annual-school-wide-art-show/
CATEGORIES:Special Events
END:VEVENT
BEGIN:VEVENT
DTSTART;VALUE=DATE:20260406
DTEND;VALUE=DATE:20260412
DTSTAMP:20260423T200327
CREATED:20170824T211706Z
LAST-MODIFIED:20250923T131439Z
UID:325-1775440800-1775872799@myschooldover.com
SUMMARY:Week of the Young Child
DESCRIPTION:My School’s “Spirit Week”! A week-long celebration of young children and their capabilities. Our annual Art Show also takes place during this week! \n 
URL:https://myschooldover.com/calendar/week-young-child/
CATEGORIES:Special Events
END:VEVENT
BEGIN:VEVENT
DTSTART;TZID=America/New_York:20260318T073000
DTEND;TZID=America/New_York:20260318T120000
DTSTAMP:20260423T200327
CREATED:20230912T203713Z
LAST-MODIFIED:20250923T131514Z
UID:1403-1773819000-1773835200@myschooldover.com
SUMMARY:3rd Wednesday\, 1/2 Day- Staff Meeting
DESCRIPTION:
URL:https://myschooldover.com/calendar/3rd-wednesday-1-2-day-staff-meeting-6/
CATEGORIES:Special Events
END:VEVENT
BEGIN:VEVENT
DTSTART;TZID=America/New_York:20260313T073000
DTEND;TZID=America/New_York:20260313T163000
DTSTAMP:20260423T200327
CREATED:20170807T071733Z
LAST-MODIFIED:20250923T131552Z
UID:215-1773387000-1773419400@myschooldover.com
SUMMARY:Teacher Workshop- Closed
DESCRIPTION:We will be closed for a teacher workshop day. Teachers will be preparing for Art Show this day.
URL:https://myschooldover.com/calendar/teacher-workshop-mar23/
CATEGORIES:Staff Only
END:VEVENT
BEGIN:VEVENT
DTSTART;VALUE=DATE:20260223
DTEND;VALUE=DATE:20260301
DTSTAMP:20260423T200327
CREATED:20170807T202539Z
LAST-MODIFIED:20250923T131705Z
UID:231-1771812000-1772243999@myschooldover.com
SUMMARY:Winter Recess
DESCRIPTION:Enjoy your vacation week!
URL:https://myschooldover.com/calendar/winter-recess/
CATEGORIES:Closed
END:VEVENT
BEGIN:VEVENT
DTSTART;TZID=America/New_York:20260218T073000
DTEND;TZID=America/New_York:20260218T120000
DTSTAMP:20260423T200327
CREATED:20230912T203649Z
LAST-MODIFIED:20250923T131741Z
UID:1401-1771399800-1771416000@myschooldover.com
SUMMARY:3rd Wednesday\, 1/2 Day- Staff Meeting
DESCRIPTION:
URL:https://myschooldover.com/calendar/3rd-wednesday-1-2-day-staff-meeting-5/
CATEGORIES:Special Events
END:VEVENT
BEGIN:VEVENT
DTSTART;TZID=America/New_York:20260121T073000
DTEND;TZID=America/New_York:20260121T120000
DTSTAMP:20260423T200327
CREATED:20230912T203620Z
LAST-MODIFIED:20250923T131857Z
UID:1399-1768980600-1768996800@myschooldover.com
SUMMARY:3rd Wednesday\, 1/2 Day- Staff Meeting
DESCRIPTION:
URL:https://myschooldover.com/calendar/3rd-wednesday-1-2-day-staff-meeting-4/
CATEGORIES:Special Events
END:VEVENT
BEGIN:VEVENT
DTSTART;TZID=America/New_York:20260119T073000
DTEND;TZID=America/New_York:20260119T163000
DTSTAMP:20260423T200327
CREATED:20170807T202339Z
LAST-MODIFIED:20250923T131815Z
UID:229-1768807800-1768840200@myschooldover.com
SUMMARY:MLK Day- Closed
DESCRIPTION:
URL:https://myschooldover.com/calendar/mlk-day/
CATEGORIES:Closed
END:VEVENT
BEGIN:VEVENT
DTSTART;VALUE=DATE:20251222
DTEND;VALUE=DATE:20260104
DTSTAMP:20260423T200327
CREATED:20170807T202159Z
LAST-MODIFIED:20250923T132116Z
UID:227-1766368800-1767405599@myschooldover.com
SUMMARY:Holiday Recess
DESCRIPTION:Have a warm and peaceful holiday! Happy New Year!
URL:https://myschooldover.com/calendar/holiday-recess/
CATEGORIES:Closed
END:VEVENT
BEGIN:VEVENT
DTSTART;TZID=America/New_York:20251219T090000
DTEND;TZID=America/New_York:20251219T120000
DTSTAMP:20260423T200327
CREATED:20170824T210834Z
LAST-MODIFIED:20250923T132934Z
UID:317-1766134800-1766145600@myschooldover.com
SUMMARY:PJ Day & Breakfast
DESCRIPTION:9am-12noon \nChildren come to school in their PJs. We cook a simple breakfast\, share singing time\, watch a festive movie\, and work with art materials. This is a full school day. We are open normal hours.
URL:https://myschooldover.com/calendar/pj-day-breakfast/
CATEGORIES:Special Events
END:VEVENT
BEGIN:VEVENT
DTSTART;TZID=America/New_York:20251218T090000
DTEND;TZID=America/New_York:20251218T120000
DTSTAMP:20260423T200327
CREATED:20170824T211034Z
LAST-MODIFIED:20250923T132402Z
UID:319-1766048400-1766059200@myschooldover.com
SUMMARY:PJ Day & Breakfast
DESCRIPTION:9am-12noon \nChildren come to school in their PJs. We cook a simple breakfast\, share singing time\, watch a festive movie\, and work with art materials. \nThis is the last day before the holiday recess. We are open normal hours this day.
URL:https://myschooldover.com/calendar/pj-day-breakfast-2/
CATEGORIES:Special Events
END:VEVENT
BEGIN:VEVENT
DTSTART;TZID=America/New_York:20251217T073000
DTEND;TZID=America/New_York:20251217T120000
DTSTAMP:20260423T200327
CREATED:20240123T172318Z
LAST-MODIFIED:20250923T133032Z
UID:1455-1765956600-1765972800@myschooldover.com
SUMMARY:3rd Wednesday\, 1/2 Day- Staff Meeting
DESCRIPTION:
URL:https://myschooldover.com/calendar/3rd-wednesday-1-2-day-staff-meeting-9/
CATEGORIES:Special Events
END:VEVENT
BEGIN:VEVENT
DTSTART;VALUE=DATE:20251126
DTEND;VALUE=DATE:20251130
DTSTAMP:20260423T200327
CREATED:20170807T202010Z
LAST-MODIFIED:20250923T133241Z
UID:225-1764122400-1764381599@myschooldover.com
SUMMARY:Thanksgiving Recess
DESCRIPTION:Be safe if traveling & have a wonderful holiday!
URL:https://myschooldover.com/calendar/thanksgiving-recess/
CATEGORIES:Closed
END:VEVENT
BEGIN:VEVENT
DTSTART;TZID=America/New_York:20251119T073000
DTEND;TZID=America/New_York:20251119T120000
DTSTAMP:20260423T200327
CREATED:20230912T203548Z
LAST-MODIFIED:20250923T133422Z
UID:1397-1763537400-1763553600@myschooldover.com
SUMMARY:3rd Wednesday\, 1/2 Day- Staff Meeting
DESCRIPTION:
URL:https://myschooldover.com/calendar/3rd-wednesday-1-2-day-staff-meeting-3/
CATEGORIES:Special Events
END:VEVENT
BEGIN:VEVENT
DTSTART;VALUE=DATE:20251111
DTEND;VALUE=DATE:20251113
DTSTAMP:20260423T200327
CREATED:20170807T201810Z
LAST-MODIFIED:20250923T133328Z
UID:223-1762826400-1762912799@myschooldover.com
SUMMARY:Veterans Day- Closed
DESCRIPTION:
URL:https://myschooldover.com/calendar/veterans-day/
CATEGORIES:Closed
END:VEVENT
BEGIN:VEVENT
DTSTART;TZID=America/New_York:20251104T080000
DTEND;TZID=America/New_York:20251104T150000
DTSTAMP:20260423T200327
CREATED:20170824T200824Z
LAST-MODIFIED:20250923T133507Z
UID:310-1762243200-1762268400@myschooldover.com
SUMMARY:Parent Conferences- Closed
DESCRIPTION:Parent Conferences- My School Closed \nEach conference is allotted a 15-20min time slot. Teachers will share with you their initial assessment of your child’s skills and you will have the opportunity to discuss and ask questions. A questionnaire will be sent home prior to help you think about discussion topics beforehand. \nSign-ups will be in each classroom the week prior. The conferences are optional. \nConferences are for parents only\, no childcare available.
URL:https://myschooldover.com/calendar/parent-conferences-optional/
CATEGORIES:Special Events
END:VEVENT
BEGIN:VEVENT
DTSTART;TZID=America/New_York:20251031T093000
DTEND;TZID=America/New_York:20251031T101500
DTSTAMP:20260423T200327
CREATED:20170922T195707Z
LAST-MODIFIED:20250923T133815Z
UID:421-1761903000-1761905700@myschooldover.com
SUMMARY:My School Halloween Parade
DESCRIPTION:Our 52nd  annual Halloween parade to City Hall will take place on Friday\, Oct 31st. We will meet at the school\, line up by class and leave at 9:30.  *This event is weather permitting* \nStudents who do not attend on Fridays are welcome to join us as long as they have a chaperone. Students who normally attend on Fridays do not need a chaperone but we encourage you to come if you can. We should be back at the school no later than 10:30. \n  \nChildren should arrive to school in costume. We will all walk together to\, and through\, City Hall. The City Hall Staff will pass out candy (very little) to the children. Bags will be provided and no candy will be consumed at school. You will find it in your parent pocket at pick up. Once we exit the building children will sit on the steps of City Hall and sing the Halloween songs they have been practicing! \n  \nStudents staying past noon should bring a change of clothes as they will be changing out of their costumes.
URL:https://myschooldover.com/calendar/school-halloween-parade/
CATEGORIES:Special Events
END:VEVENT
BEGIN:VEVENT
DTSTART;TZID=America/New_York:20251015T073000
DTEND;TZID=America/New_York:20251015T120000
DTSTAMP:20260423T200327
CREATED:20230912T203505Z
LAST-MODIFIED:20250923T133924Z
UID:1395-1760513400-1760529600@myschooldover.com
SUMMARY:3rd Wednesday\, 1/2 Day- Staff Meeting
DESCRIPTION:
URL:https://myschooldover.com/calendar/3rd-wednesday-1-2-day-staff-meeting-2/
CATEGORIES:Special Events
END:VEVENT
BEGIN:VEVENT
DTSTART;TZID=America/New_York:20251013T073000
DTEND;TZID=America/New_York:20251013T163000
DTSTAMP:20260423T200327
CREATED:20170807T201038Z
LAST-MODIFIED:20250923T134012Z
UID:221-1760340600-1760373000@myschooldover.com
SUMMARY:Indigenous People's Day- Closed
DESCRIPTION:
URL:https://myschooldover.com/calendar/columbus-day/
CATEGORIES:Closed
END:VEVENT
BEGIN:VEVENT
DTSTART;TZID=America/New_York:20251010T073000
DTEND;TZID=America/New_York:20251010T163000
DTSTAMP:20260423T200327
CREATED:20220809T162219Z
LAST-MODIFIED:20250923T134539Z
UID:1271-1760081400-1760113800@myschooldover.com
SUMMARY:Teacher Workshop- Closed
DESCRIPTION:We will be closed for a teacher workshop day. Teachers will be preparing for Parent Conferences and attending trainings.
URL:https://myschooldover.com/calendar/teacher-workshop-2/
CATEGORIES:Staff Only
END:VEVENT
END:VCALENDAR